BEGIN:VCALENDAR
VERSION:2.0
PRODID:-//Keynote PCO - ECPv4.4.3//NONSGML v1.0//EN
CALSCALE:GREGORIAN
METHOD:PUBLISH
X-WR-CALNAME:Keynote PCO
X-ORIGINAL-URL:https://keynotepco.ie
X-WR-CALDESC:Events for Keynote PCO
BEGIN:VEVENT
DTSTART;VALUE=DATE:20160519
DTEND;VALUE=DATE:20160522
DTSTAMP:20171107T012958
CREATED:20160505T145920Z
LAST-MODIFIED:20160505T152259Z
UID:84-1463616000-1463961599@keynotepco.ie
SUMMARY:European Congress of Veterinary Dentistry
DESCRIPTION:
URL:https://keynotepco.ie/event/european-congress-of-veterinary-dentistry/
LOCATION:Crown Plaza Dublin-Northwwod\, Dublin\, Dublin\, Ireland
GEO:53.4047005;-6.2527073
X-APPLE-STRUCTURED-LOCATION;VALUE=URI;X-ADDRESS=Crown Plaza Dublin-Northwwod Dublin Dublin Ireland;X-APPLE-RADIUS=500;X-TITLE=Crown Plaza Dublin-Northwwod\, Dublin:geo:-6.2527073,53.4047005
ATTACH;FMTTYPE=image/png:https://keynotepco.ie/wp-content/uploads/2016/05/logo-evds.png
END:VEVENT
END:VCALENDAR